BEGIN:VCALENDAR
VERSION:2.0
PRODID:-//Hudson SD - ECPv6.1.4//NONSGML v1.0//EN
CALSCALE:GREGORIAN
METHOD:PUBLISH
X-WR-CALNAME:Hudson SD
X-ORIGINAL-URL:https://hudsonsdlibrary.com/site
X-WR-CALDESC:Events for Hudson SD
REFRESH-INTERVAL;VALUE=DURATION:PT1H
X-Robots-Tag:noindex
X-PUBLISHED-TTL:PT1H
BEGIN:VTIMEZONE
TZID:UTC
BEGIN:STANDARD
TZOFFSETFROM:+0000
TZOFFSETTO:+0000
TZNAME:UTC
DTSTART:20210101T000000
END:STANDARD
END:VTIMEZONE
BEGIN:VEVENT
DTSTART;TZID=UTC:20211030T100000
DTEND;TZID=UTC:20211030T100000
DTSTAMP:20260423T023703
CREATED:20211019T135725Z
LAST-MODIFIED:20211027T232136Z
UID:1533-1635588000-1635588000@hudsonsdlibrary.com
SUMMARY:Halloween Story Time and Craft
DESCRIPTION:
URL:https://hudsonsdlibrary.com/site/event/halloween-story-time-and-craft/
END:VEVENT
END:VCALENDAR