BEGIN:VCALENDAR
VERSION:2.0
PRODID:-//Hudson SD - ECPv6.1.4//NONSGML v1.0//EN
CALSCALE:GREGORIAN
METHOD:PUBLISH
X-WR-CALNAME:Hudson SD
X-ORIGINAL-URL:https://hudsonsdlibrary.com/site
X-WR-CALDESC:Events for Hudson SD
REFRESH-INTERVAL;VALUE=DURATION:PT1H
X-Robots-Tag:noindex
X-PUBLISHED-TTL:PT1H
BEGIN:VTIMEZONE
TZID:UTC
BEGIN:STANDARD
TZOFFSETFROM:+0000
TZOFFSETTO:+0000
TZNAME:UTC
DTSTART:20210101T000000
END:STANDARD
END:VTIMEZONE
BEGIN:VEVENT
DTSTART;VALUE=DATE:20211125
DTEND;VALUE=DATE:20211126
DTSTAMP:20260423T004428
CREATED:20211027T232939Z
LAST-MODIFIED:20211027T232939Z
UID:1941-1637798400-1637884799@hudsonsdlibrary.com
SUMMARY:Thanksgiving Day
DESCRIPTION:
URL:https://hudsonsdlibrary.com/site/event/thanksgiving-day/
END:VEVENT
END:VCALENDAR