BEGIN:VCALENDAR
VERSION:2.0
PRODID:-//Hudson SD - ECPv6.1.4//NONSGML v1.0//EN
CALSCALE:GREGORIAN
METHOD:PUBLISH
X-ORIGINAL-URL:https://hudsonsdlibrary.com/site
X-WR-CALDESC:Events for Hudson SD
REFRESH-INTERVAL;VALUE=DURATION:PT1H
X-Robots-Tag:noindex
X-PUBLISHED-TTL:PT1H
BEGIN:VTIMEZONE
TZID:UTC
BEGIN:STANDARD
TZOFFSETFROM:+0000
TZOFFSETTO:+0000
TZNAME:UTC
DTSTART:20210101T000000
END:STANDARD
END:VTIMEZONE
BEGIN:VEVENT
DTSTART;TZID=UTC:20211211T090000
DTEND;TZID=UTC:20211211T120000
DTSTAMP:20260422T231754
CREATED:20211027T233038Z
LAST-MODIFIED:20211027T233038Z
UID:1944-1639213200-1639224000@hudsonsdlibrary.com
SUMMARY:Festival of Trees
DESCRIPTION:
URL:https://hudsonsdlibrary.com/site/event/festival-of-trees-3/
END:VEVENT
BEGIN:VEVENT
DTSTART;TZID=UTC:20211211T110000
DTEND;TZID=UTC:20211211T133000
DTSTAMP:20260422T231754
CREATED:20211102T180318Z
LAST-MODIFIED:20211102T180755Z
UID:2258-1639220400-1639229400@hudsonsdlibrary.com
SUMMARY:Pancake Feed
DESCRIPTION:
URL:https://hudsonsdlibrary.com/site/event/pancake-feed/
END:VEVENT
BEGIN:VEVENT
DTSTART;TZID=UTC:20211211T120000
DTEND;TZID=UTC:20211211T120000
DTSTAMP:20260422T231754
CREATED:20211102T180244Z
LAST-MODIFIED:20211102T180642Z
UID:2256-1639224000-1639224000@hudsonsdlibrary.com
SUMMARY:Santa is in town.
DESCRIPTION:
URL:https://hudsonsdlibrary.com/site/event/santa-is-in-town/
END:VEVENT
END:VCALENDAR