BEGIN:VCALENDAR
VERSION:2.0
PRODID:-//Hudson SD - ECPv6.1.4//NONSGML v1.0//EN
CALSCALE:GREGORIAN
METHOD:PUBLISH
X-WR-CALNAME:Hudson SD
X-ORIGINAL-URL:https://hudsonsdlibrary.com/site
X-WR-CALDESC:Events for Hudson SD
REFRESH-INTERVAL;VALUE=DURATION:PT1H
X-Robots-Tag:noindex
X-PUBLISHED-TTL:PT1H
BEGIN:VTIMEZONE
TZID:UTC
BEGIN:STANDARD
TZOFFSETFROM:+0000
TZOFFSETTO:+0000
TZNAME:UTC
DTSTART:20210101T000000
END:STANDARD
END:VTIMEZONE
BEGIN:VEVENT
DTSTART;TZID=UTC:20211218T090000
DTEND;TZID=UTC:20211218T120000
DTSTAMP:20260422T231121
CREATED:20211027T232422Z
LAST-MODIFIED:20211027T232446Z
UID:1935-1639818000-1639828800@hudsonsdlibrary.com
SUMMARY:Festival of Trees
DESCRIPTION:
URL:https://hudsonsdlibrary.com/site/event/festival-of-trees-2/
END:VEVENT
END:VCALENDAR