BEGIN:VCALENDAR
VERSION:2.0
PRODID:-//Hudson SD - ECPv6.1.4//NONSGML v1.0//EN
CALSCALE:GREGORIAN
METHOD:PUBLISH
X-WR-CALNAME:Hudson SD
X-ORIGINAL-URL:https://hudsonsdlibrary.com/site
X-WR-CALDESC:Events for Hudson SD
REFRESH-INTERVAL;VALUE=DURATION:PT1H
X-Robots-Tag:noindex
X-PUBLISHED-TTL:PT1H
BEGIN:VTIMEZONE
TZID:UTC
BEGIN:STANDARD
TZOFFSETFROM:+0000
TZOFFSETTO:+0000
TZNAME:UTC
DTSTART:20210101T000000
END:STANDARD
END:VTIMEZONE
BEGIN:VEVENT
DTSTART;TZID=UTC:20211219T090000
DTEND;TZID=UTC:20211219T100000
DTSTAMP:20260422T230952
CREATED:20211214T184310Z
LAST-MODIFIED:20211214T184310Z
UID:2773-1639904400-1639908000@hudsonsdlibrary.com
SUMMARY:Sunday School Program at Hudson Lutheran Church
DESCRIPTION:
URL:https://hudsonsdlibrary.com/site/event/sunday-school-program-at-hudson-lutheran-church/
END:VEVENT
END:VCALENDAR