BEGIN:VCALENDAR
VERSION:2.0
PRODID:-//Hudson SD - ECPv6.1.4//NONSGML v1.0//EN
CALSCALE:GREGORIAN
METHOD:PUBLISH
X-ORIGINAL-URL:https://hudsonsdlibrary.com/site
X-WR-CALDESC:Events for Hudson SD
REFRESH-INTERVAL;VALUE=DURATION:PT1H
X-Robots-Tag:noindex
X-PUBLISHED-TTL:PT1H
BEGIN:VTIMEZONE
TZID:UTC
BEGIN:STANDARD
TZOFFSETFROM:+0000
TZOFFSETTO:+0000
TZNAME:UTC
DTSTART:20220101T000000
END:STANDARD
END:VTIMEZONE
BEGIN:VEVENT
DTSTART;TZID=UTC:20220108T100000
DTEND;TZID=UTC:20220108T120000
DTSTAMP:20260422T214850
CREATED:20211123T002509Z
LAST-MODIFIED:20211123T143647Z
UID:2680-1641636000-1641643200@hudsonsdlibrary.com
SUMMARY:Succulent Class by Tonya Rasumussen
DESCRIPTION:
URL:https://hudsonsdlibrary.com/site/event/succulent-class-by-tonya-rasumussen/
END:VEVENT
END:VCALENDAR