BEGIN:VCALENDAR
VERSION:2.0
PRODID:-//Hudson SD - ECPv6.1.4//NONSGML v1.0//EN
CALSCALE:GREGORIAN
METHOD:PUBLISH
X-ORIGINAL-URL:https://hudsonsdlibrary.com/site
X-WR-CALDESC:Events for Hudson SD
REFRESH-INTERVAL;VALUE=DURATION:PT1H
X-Robots-Tag:noindex
X-PUBLISHED-TTL:PT1H
BEGIN:VTIMEZONE
TZID:UTC
BEGIN:STANDARD
TZOFFSETFROM:+0000
TZOFFSETTO:+0000
TZNAME:UTC
DTSTART:20220101T000000
END:STANDARD
END:VTIMEZONE
BEGIN:VEVENT
DTSTART;TZID=UTC:20220201T000000
DTEND;TZID=UTC:20220228T000000
DTSTAMP:20260422T153429
CREATED:20220202T165527Z
LAST-MODIFIED:20220202T165536Z
UID:2839-1643673600-1646006400@hudsonsdlibrary.com
SUMMARY:Blind Date with a Book all Month
DESCRIPTION:
URL:https://hudsonsdlibrary.com/site/event/blind-date-with-a-book-all-month/
END:VEVENT
END:VCALENDAR